BEGIN:VCALENDAR
VERSION:2.0
PRODID:-//O So Good Winery &amp; Distillery - ECPv6.15.10//NONSGML v1.0//EN
CALSCALE:GREGORIAN
METHOD:PUBLISH
X-ORIGINAL-URL:https://osogoodwinery.com
X-WR-CALDESC:Events for O So Good Winery &amp; Distillery
REFRESH-INTERVAL;VALUE=DURATION:PT1H
X-Robots-Tag:noindex
X-PUBLISHED-TTL:PT1H
BEGIN:VTIMEZONE
TZID:America/Chicago
BEGIN:DAYLIGHT
TZOFFSETFROM:-0600
TZOFFSETTO:-0500
TZNAME:CDT
DTSTART:20230312T080000
END:DAYLIGHT
BEGIN:STANDARD
TZOFFSETFROM:-0500
TZOFFSETTO:-0600
TZNAME:CST
DTSTART:20231105T070000
END:STANDARD
BEGIN:DAYLIGHT
TZOFFSETFROM:-0600
TZOFFSETTO:-0500
TZNAME:CDT
DTSTART:20240310T080000
END:DAYLIGHT
BEGIN:STANDARD
TZOFFSETFROM:-0500
TZOFFSETTO:-0600
TZNAME:CST
DTSTART:20241103T070000
END:STANDARD
BEGIN:DAYLIGHT
TZOFFSETFROM:-0600
TZOFFSETTO:-0500
TZNAME:CDT
DTSTART:20250309T080000
END:DAYLIGHT
BEGIN:STANDARD
TZOFFSETFROM:-0500
TZOFFSETTO:-0600
TZNAME:CST
DTSTART:20251102T070000
END:STANDARD
END:VTIMEZONE
BEGIN:VEVENT
DTSTART;TZID=America/Chicago:20240609T080000
DTEND;TZID=America/Chicago:20240609T223000
DTSTAMP:20260423T202548
CREATED:20240524T023225Z
LAST-MODIFIED:20240524T033501Z
UID:20721-1717920000-1717972200@osogoodwinery.com
SUMMARY:Breakfast with Royalty
DESCRIPTION:RSVP Required. Register for the event on Facebook: https://fb.me/e/6T506g42f \nBE OUR GUEST as we host a magical breakfast with Disney’s Princesses.\nCome and enjoy a buffet-style breakfast while mingling with Disney Royalty dressed in their Sunday best!\n\nBreakfast Bar will include: \n\nPancakes/Waffles\nBiscuits and Gravy\nBacon\nSausage\nBreakfast Potatoes\nScrambled Eggs\nScrambled Eggs w/ Peppers and Onions\n\n\nTicket includes: \n\nTiara / Crown\nBreakfast / Drink\nPhoto Opportunity\n\n\nThe princesses will be there throughout the breakfast event and you are more than welcome to join us whenever you can. You can come and go as you please\, and we would be delighted to have you join us whenever you’re available.\n\nPerformance by Princess:\n\nJasmine 8:30\nSnow White 8:50\nRapunzel: 9:10\nMoana: 9:30\nAriel: 9:50\nBelle: 10:10\n\nAll of our princesses will perform a song from their own fairytale.\n\nPlease Note: Our Royalty will be in their “Sunday Best\,” made by our very own Fairy Godmother\, and not in their “fairytale costume.” By humanizing our royalty\, we hope to make the magical feeling a reality for all our guests.
URL:https://osogoodwinery.com/event/breakfast-with-royalty/
LOCATION:O So Good Winery\, 2093 20th Avenue South East\, Dyersville\, IA\, 52040\, United States
CATEGORIES:Special Event
ATTACH;FMTTYPE=image/jpeg:https://osogoodwinery.com/wp-content/uploads/2024/05/ashton-mullins-j1HU-Oll7KI-unsplash.jpg
END:VEVENT
BEGIN:VEVENT
DTSTART;TZID=America/Chicago:20240316T180000
DTEND;TZID=America/Chicago:20240316T210000
DTSTAMP:20260423T202548
CREATED:20240302T050155Z
LAST-MODIFIED:20240302T050155Z
UID:19649-1710612000-1710622800@osogoodwinery.com
SUMMARY:Triple Threat - St. Patty's Party
DESCRIPTION:
URL:https://osogoodwinery.com/event/triple-threat-st-pattys-party/
LOCATION:O So Good Winery\, 2093 20th Avenue South East\, Dyersville\, IA\, 52040\, United States
CATEGORIES:Events,Special Event
END:VEVENT
END:VCALENDAR