BEGIN:VCALENDAR
VERSION:2.0
PRODID:-//O So Good Winery &amp; Distillery - ECPv6.15.10//NONSGML v1.0//EN
CALSCALE:GREGORIAN
METHOD:PUBLISH
X-WR-CALNAME:O So Good Winery &amp; Distillery
X-ORIGINAL-URL:https://osogoodwinery.com
X-WR-CALDESC:Events for O So Good Winery &amp; Distillery
REFRESH-INTERVAL;VALUE=DURATION:PT1H
X-Robots-Tag:noindex
X-PUBLISHED-TTL:PT1H
BEGIN:VTIMEZONE
TZID:America/Chicago
BEGIN:DAYLIGHT
TZOFFSETFROM:-0600
TZOFFSETTO:-0500
TZNAME:CDT
DTSTART:20230312T080000
END:DAYLIGHT
BEGIN:STANDARD
TZOFFSETFROM:-0500
TZOFFSETTO:-0600
TZNAME:CST
DTSTART:20231105T070000
END:STANDARD
BEGIN:DAYLIGHT
TZOFFSETFROM:-0600
TZOFFSETTO:-0500
TZNAME:CDT
DTSTART:20240310T080000
END:DAYLIGHT
BEGIN:STANDARD
TZOFFSETFROM:-0500
TZOFFSETTO:-0600
TZNAME:CST
DTSTART:20241103T070000
END:STANDARD
BEGIN:DAYLIGHT
TZOFFSETFROM:-0600
TZOFFSETTO:-0500
TZNAME:CDT
DTSTART:20250309T080000
END:DAYLIGHT
BEGIN:STANDARD
TZOFFSETFROM:-0500
TZOFFSETTO:-0600
TZNAME:CST
DTSTART:20251102T070000
END:STANDARD
BEGIN:DAYLIGHT
TZOFFSETFROM:-0600
TZOFFSETTO:-0500
TZNAME:CDT
DTSTART:20260308T080000
END:DAYLIGHT
BEGIN:STANDARD
TZOFFSETFROM:-0500
TZOFFSETTO:-0600
TZNAME:CST
DTSTART:20261101T070000
END:STANDARD
END:VTIMEZONE
BEGIN:VEVENT
DTSTART;TZID=America/Chicago:20250425T190000
DTEND;TZID=America/Chicago:20250425T210000
DTSTAMP:20260423T123246
CREATED:20250303T163451Z
LAST-MODIFIED:20250303T163451Z
UID:20977-1745607600-1745614800@osogoodwinery.com
SUMMARY:Trivia
DESCRIPTION:Trivial Dudes host fun and inviting trivia nights. Our topics range from pop culture to other academic areas. There is a little something for everyone. Beyond the questions we are also have visual aids and music to enhance the experience. You’ll be entertained the whole time you play.
URL:https://osogoodwinery.com/event/trivia-4/
LOCATION:O So Good Winery\, 2093 20th Avenue South East\, Dyersville\, IA\, 52040\, United States
ATTACH;FMTTYPE=image/png:https://osogoodwinery.com/wp-content/uploads/2024/05/tdudes.png
END:VEVENT
BEGIN:VEVENT
DTSTART;TZID=America/Chicago:20250418T183000
DTEND;TZID=America/Chicago:20250418T210000
DTSTAMP:20260423T123246
CREATED:20250303T163255Z
LAST-MODIFIED:20250303T163255Z
UID:20975-1745001000-1745010000@osogoodwinery.com
SUMMARY:BarGo
DESCRIPTION:A little info about Bargo –\nBring your quarters and luck! We need 18 people minimum to play\, we will have 18 rounds. First thing we do is go around with 2 cups\, every player will put 50 cents in each cup. Then I will deal out 3 cards to every person\, highest poker hand of them 3 cards will win one cup. Then I will call out my deck of cards\, if I call a card that you have you yell yep you got it and flip it over. First one to get all 3 of their cards flipped over wins the second cup. A couple of rounds throughout we will do $1 in each cup for a chance of a double the money win! The more people we have the more money each winner can get so tell everyone you know to show up for a great time and a chance to win to help pay off your bar tab! 😁\nCome on out to O SO Good and try your Luck!
URL:https://osogoodwinery.com/event/bargo-6/
LOCATION:O So Good Winery\, 2093 20th Avenue South East\, Dyersville\, IA\, 52040\, United States
ATTACH;FMTTYPE=image/jpeg:https://osogoodwinery.com/wp-content/uploads/2024/05/bargo.jpeg
END:VEVENT
BEGIN:VEVENT
DTSTART;TZID=America/Chicago:20250415T173000
DTEND;TZID=America/Chicago:20250415T210000
DTSTAMP:20260423T123246
CREATED:20250303T165340Z
LAST-MODIFIED:20250303T165340Z
UID:20982-1744738200-1744750800@osogoodwinery.com
SUMMARY:DIY Easter Cookie Workshop
DESCRIPTION:Cookie decorating pop up at O So Good Winery on Tuesday\, April 15th from 5:00-6:30 pm. \n**please purchase cookies via the ticket website link** \nCookies in Easter themed shapes\, buttercream frostings\, sprinkles\, etc will be provided along with a little tutorial in the beginning on some styles you could create. All you have to do is show up\, check in to get your cookies\, decorate\, and have a blast. Leave all the prep and mess to us!\nCookie Kit Boxes are available in sizes: 12 cookies ($25) or 18 cookies ($30). \nIf you can’t make it right away at 5pm\, that is just fine\, come whenever you can! Bring a friend for a fun girls night out before the holiday! \nVenmo SarahDean-Schirmer and reference date and Project #
URL:https://osogoodwinery.com/event/diy-easter-cookie-workshop/
LOCATION:O So Good Winery\, 2093 20th Avenue South East\, Dyersville\, IA\, 52040\, United States
ATTACH;FMTTYPE=image/jpeg:https://osogoodwinery.com/wp-content/uploads/2025/03/IMG_0970.jpeg
END:VEVENT
BEGIN:VEVENT
DTSTART;TZID=America/Chicago:20250411T190000
DTEND;TZID=America/Chicago:20250411T210000
DTSTAMP:20260423T123246
CREATED:20250303T163031Z
LAST-MODIFIED:20250303T163031Z
UID:20973-1744398000-1744405200@osogoodwinery.com
SUMMARY:Music Bingo
DESCRIPTION:Music Bingo events last around 2 hours and typically have 3 rounds of Music Bingo with a different category each time. We have all sorts of categories: \n  \n\nDifferent Decades\nGenres of Music (Rock\, Country\, Pop)\nFun themes (One Hit Wonders\, Titles with Numbers\, etc.)\n\n  \nAs we play a song people try to identify the song and look for it on their card. Don’t worry if you’re not good at identifying as we will work to help you out in silly ways. \nWe encourage the audience to sing along\, which has led to some fun full renditions of some songs when we stopped the music after 20 seconds. \nGet whatever kind of BINGO we have for the round and you can win a prize!
URL:https://osogoodwinery.com/event/music-bingo-2/
LOCATION:O So Good Winery\, 2093 20th Avenue South East\, Dyersville\, IA\, 52040\, United States
ATTACH;FMTTYPE=image/png:https://osogoodwinery.com/wp-content/uploads/2024/05/tdudes.png
END:VEVENT
BEGIN:VEVENT
DTSTART;TZID=America/Chicago:20250408T173000
DTEND;TZID=America/Chicago:20250408T210000
DTSTAMP:20260423T123246
CREATED:20250303T164858Z
LAST-MODIFIED:20250303T164858Z
UID:20979-1744133400-1744146000@osogoodwinery.com
SUMMARY:April Craft Event
DESCRIPTION:Sign-up online and Pay AHEAD ~ to secure your space and Project \nAll Projects are $45 \nNeed to Be signed up by March 31st to ensure projects are ready. \nPaints and Project Included also enjoy a Glass of wine included. \nVenmo SarahDean-Schirmer and reference date and Project #
URL:https://osogoodwinery.com/event/april-craft-event/
LOCATION:O So Good Winery\, 2093 20th Avenue South East\, Dyersville\, IA\, 52040\, United States
ATTACH;FMTTYPE=image/jpeg:https://osogoodwinery.com/wp-content/uploads/2025/03/IMG_0969.jpeg
END:VEVENT
BEGIN:VEVENT
DTSTART;TZID=America/Chicago:20250328T190000
DTEND;TZID=America/Chicago:20250328T210000
DTSTAMP:20260423T123246
CREATED:20250303T072238Z
LAST-MODIFIED:20250303T072238Z
UID:20966-1743188400-1743195600@osogoodwinery.com
SUMMARY:Trivia
DESCRIPTION:Trivial Dudes host fun and inviting trivia nights. Our topics range from pop culture to other academic areas. There is a little something for everyone. Beyond the questions we are also have visual aids and music to enhance the experience. You’ll be entertained the whole time you play.
URL:https://osogoodwinery.com/event/trivia-3/
LOCATION:IA
ATTACH;FMTTYPE=image/png:https://osogoodwinery.com/wp-content/uploads/2024/05/tdudes.png
END:VEVENT
BEGIN:VEVENT
DTSTART;TZID=America/Chicago:20250321T173000
DTEND;TZID=America/Chicago:20250321T210000
DTSTAMP:20260423T123246
CREATED:20250303T035933Z
LAST-MODIFIED:20250303T035933Z
UID:20963-1742578200-1742590800@osogoodwinery.com
SUMMARY:BarGo
DESCRIPTION:Experience a unique game of luck and fun\, all while enjoying a lively atmosphere. Gather your friends and fellow enthusiasts for an evening filled with excitement\, delicious drinks\, and great company. Bring your quarters to play to win the pot and ultimate bragging rights! Don’t miss out on this one-of-a-kind event.
URL:https://osogoodwinery.com/event/bargo-5/
LOCATION:O So Good Winery\, 2093 20th Avenue South East\, Dyersville\, IA\, 52040\, United States
CATEGORIES:Bargo
ATTACH;FMTTYPE=image/jpeg:https://osogoodwinery.com/wp-content/uploads/2024/05/bargo.jpeg
END:VEVENT
BEGIN:VEVENT
DTSTART;TZID=America/Chicago:20250315T110000
DTEND;TZID=America/Chicago:20250315T220000
DTSTAMP:20260423T123246
CREATED:20250303T073503Z
LAST-MODIFIED:20250303T073503Z
UID:20968-1742036400-1742076000@osogoodwinery.com
SUMMARY:St. Patricks Day Shenanigans
DESCRIPTION:We Open @ 11am – **NO COVER CHARGE**\nGame Room OPEN All DAY\nFood Specials All Day (fast pickup items- Brats hotdogs and Pizza)\nGreen Slushies (New Custom Slush Club Cups) \nHappy Hour 5-6pm and MORE! ~ Call in for more details on activities happening throughout the day \nMixed Drink Specials\nBucket of Beer Specials\nOSG Pizza Specials ALL DAY
URL:https://osogoodwinery.com/event/st-patricks-day-shenanigans/
LOCATION:IA
ATTACH;FMTTYPE=image/jpeg:https://osogoodwinery.com/wp-content/uploads/2025/03/IMG_2140-scaled.jpeg
END:VEVENT
BEGIN:VEVENT
DTSTART;TZID=America/Chicago:20250314T190000
DTEND;TZID=America/Chicago:20250314T210000
DTSTAMP:20260423T123246
CREATED:20250303T034747Z
LAST-MODIFIED:20250312T230730Z
UID:20957-1741978800-1741986000@osogoodwinery.com
SUMMARY:Music Bingo
DESCRIPTION:Music Bingo events last around 2 hours and typically have 3 rounds of Music Bingo with a different category each time. We have all sorts of categories: \n  \n\nDifferent Decades\nGenres of Music (Rock\, Country\, Pop)\nFun themes (One Hit Wonders\, Titles with Numbers\, etc.)\n\n  \nAs we play a song people try to identify the song and look for it on their card. Don’t worry if you’re not good at identifying as we will work to help you out in silly ways. \nWe encourage the audience to sing along\, which has led to some fun full renditions of some songs when we stopped the music after 20 seconds. \nGet whatever kind of BINGO we have for the round and you can win a prize!
URL:https://osogoodwinery.com/event/music-bingo/
LOCATION:O So Good Winery\, 2093 20th Avenue South East\, Dyersville\, IA\, 52040\, United States
CATEGORIES:Bingo
ATTACH;FMTTYPE=image/png:https://osogoodwinery.com/wp-content/uploads/2024/05/tdudes.png
END:VEVENT
BEGIN:VEVENT
DTSTART;TZID=America/Chicago:20250311T053000
DTEND;TZID=America/Chicago:20250311T210000
DTSTAMP:20260423T123246
CREATED:20250303T035350Z
LAST-MODIFIED:20250303T035350Z
UID:20960-1741671000-1741726800@osogoodwinery.com
SUMMARY:Craft Night
DESCRIPTION:Sign-up online and pay ahead of time to secure your space and project. Venmo @SarahDean-Schirmer
URL:https://osogoodwinery.com/event/craft-night/
LOCATION:IA
ATTACH;FMTTYPE=image/jpeg:https://osogoodwinery.com/wp-content/uploads/2025/03/IMG_0966.jpeg
END:VEVENT
BEGIN:VEVENT
DTSTART;TZID=America/Chicago:20241122T180000
DTEND;TZID=America/Chicago:20241122T210000
DTSTAMP:20260423T123246
CREATED:20241118T235131Z
LAST-MODIFIED:20241118T235638Z
UID:20928-1732298400-1732309200@osogoodwinery.com
SUMMARY:Trivial Dudes
DESCRIPTION:
URL:https://osogoodwinery.com/event/trivia-2/
LOCATION:O So Good Winery\, 2093 20th Avenue South East\, Dyersville\, IA\, 52040\, United States
ATTACH;FMTTYPE=image/png:https://osogoodwinery.com/wp-content/uploads/2024/05/tdudes.png
END:VEVENT
BEGIN:VEVENT
DTSTART;TZID=America/Chicago:20241115T183000
DTEND;TZID=America/Chicago:20241115T213000
DTSTAMP:20260423T123246
CREATED:20241118T235446Z
LAST-MODIFIED:20241118T235515Z
UID:20934-1731695400-1731706200@osogoodwinery.com
SUMMARY:BarGo
DESCRIPTION:
URL:https://osogoodwinery.com/event/bargo-4/
LOCATION:O So Good Winery\, 2093 20th Avenue South East\, Dyersville\, IA\, 52040\, United States
ATTACH;FMTTYPE=image/jpeg:https://osogoodwinery.com/wp-content/uploads/2024/05/bargo.jpeg
ORGANIZER;CN="The O So Good Team":MAILTO:mpmanemann@gmail.com
END:VEVENT
BEGIN:VEVENT
DTSTART;TZID=America/Chicago:20241026T180000
DTEND;TZID=America/Chicago:20241026T210000
DTSTAMP:20260423T123246
CREATED:20240901T014908Z
LAST-MODIFIED:20241012T150523Z
UID:20895-1729965600-1729976400@osogoodwinery.com
SUMMARY:Triple Threat
DESCRIPTION:
URL:https://osogoodwinery.com/event/triple-threat-7/
LOCATION:O So Good Winery\, 2093 20th Avenue South East\, Dyersville\, IA\, 52040\, United States
CATEGORIES:Events
ATTACH;FMTTYPE=image/jpeg:https://osogoodwinery.com/wp-content/uploads/2024/05/triplethreat-1.jpeg
END:VEVENT
BEGIN:VEVENT
DTSTART;TZID=America/Chicago:20241025T190000
DTEND;TZID=America/Chicago:20241025T210000
DTSTAMP:20260423T123246
CREATED:20240524T025305Z
LAST-MODIFIED:20241012T150452Z
UID:20747-1729882800-1729890000@osogoodwinery.com
SUMMARY:Trivial Dudes
DESCRIPTION:
URL:https://osogoodwinery.com/event/trivial-dudes/
LOCATION:O So Good Winery\, 2093 20th Avenue South East\, Dyersville\, IA\, 52040\, United States
CATEGORIES:Trivia
ATTACH;FMTTYPE=image/jpeg:https://osogoodwinery.com/wp-content/uploads/2024/05/288760391_110279105050342_3999972483424529003_n.jpg
END:VEVENT
BEGIN:VEVENT
DTSTART;TZID=America/Chicago:20241020T130000
DTEND;TZID=America/Chicago:20241020T160000
DTSTAMP:20260423T123246
CREATED:20240326T050209Z
LAST-MODIFIED:20241012T150415Z
UID:20052-1729429200-1729440000@osogoodwinery.com
SUMMARY:Elizabeth Mary
DESCRIPTION:“Elizabeth Mary fills her schedule playing 120+ solo acoustic and full band shows annually in the tri-state area playing small venues to large music festivals playing a mix of country\, pop\, classic rock and original music.  Whether playing solo or with the full band\, Elizabeth will leave an impression on your heart and a smile on your face. Elizabeth Mary’s relatable lyrics and genuine personality will leave you wanting more.“
URL:https://osogoodwinery.com/event/elizabeth-mary/
LOCATION:O So Good Winery\, 2093 20th Avenue South East\, Dyersville\, IA\, 52040\, United States
CATEGORIES:Events
ORGANIZER;CN="The O So Good Team":MAILTO:mpmanemann@gmail.com
END:VEVENT
BEGIN:VEVENT
DTSTART;TZID=America/Chicago:20241018T183000
DTEND;TZID=America/Chicago:20241018T213000
DTSTAMP:20260423T123246
CREATED:20240901T013539Z
LAST-MODIFIED:20241012T150311Z
UID:20884-1729276200-1729287000@osogoodwinery.com
SUMMARY:BarGo
DESCRIPTION:
URL:https://osogoodwinery.com/event/bargo-3/
LOCATION:O So Good Winery\, 2093 20th Avenue South East\, Dyersville\, IA\, 52040\, United States
CATEGORIES:Bargo
END:VEVENT
BEGIN:VEVENT
DTSTART;TZID=America/Chicago:20241013T010000
DTEND;TZID=America/Chicago:20241013T160000
DTSTAMP:20260423T123246
CREATED:20240707T171917Z
LAST-MODIFIED:20241012T150111Z
UID:20858-1728781200-1728835200@osogoodwinery.com
SUMMARY:Darrell\, Jacque\, & Connie
DESCRIPTION:
URL:https://osogoodwinery.com/event/darrell-jacque-connie-2/
LOCATION:O So Good Winery\, 2093 20th Avenue South East\, Dyersville\, IA\, 52040\, United States
CATEGORIES:Events
END:VEVENT
BEGIN:VEVENT
DTSTART;TZID=America/Chicago:20240929T130000
DTEND;TZID=America/Chicago:20240929T160000
DTSTAMP:20260423T123246
CREATED:20240901T015030Z
LAST-MODIFIED:20240901T015030Z
UID:20898-1727614800-1727625600@osogoodwinery.com
SUMMARY:Jospeh Valenti
DESCRIPTION:
URL:https://osogoodwinery.com/event/jospeh-valenti/
LOCATION:O So Good Winery\, 2093 20th Avenue South East\, Dyersville\, IA\, 52040\, United States
CATEGORIES:Events
END:VEVENT
BEGIN:VEVENT
DTSTART;TZID=America/Chicago:20240922T130000
DTEND;TZID=America/Chicago:20240922T160000
DTSTAMP:20260423T123246
CREATED:20240901T014655Z
LAST-MODIFIED:20240901T014655Z
UID:20893-1727010000-1727020800@osogoodwinery.com
SUMMARY:Jimmy Welty Band
DESCRIPTION:“Kickin’ it old school with rip-roarin’ rhythms and mesmerizin’ melodies.“ \n 
URL:https://osogoodwinery.com/event/jimmy-welty-band-4/
LOCATION:IA
CATEGORIES:Events
END:VEVENT
BEGIN:VEVENT
DTSTART;TZID=America/Chicago:20240915T130000
DTEND;TZID=America/Chicago:20240915T160000
DTSTAMP:20260423T123246
CREATED:20240901T013843Z
LAST-MODIFIED:20240901T013843Z
UID:20888-1726405200-1726416000@osogoodwinery.com
SUMMARY:Lexi Healy
DESCRIPTION:
URL:https://osogoodwinery.com/event/lexi-healy/
LOCATION:O So Good Winery\, 2093 20th Avenue South East\, Dyersville\, IA\, 52040\, United States
CATEGORIES:Events
END:VEVENT
BEGIN:VEVENT
DTSTART;TZID=America/Chicago:20240907T180000
DTEND;TZID=America/Chicago:20240907T210000
DTSTAMP:20260423T123246
CREATED:20240524T021750Z
LAST-MODIFIED:20240901T014008Z
UID:20715-1725732000-1725742800@osogoodwinery.com
SUMMARY:Tangle Creek
DESCRIPTION:Tangle Creek is a Duo of Scott DL and Lori Gravel. They perform an eclectic mix of Americana\, Country\, and Blues music. Featuring covers\, but also original music too.
URL:https://osogoodwinery.com/event/tangle-creek/
LOCATION:O So Good Winery\, 2093 20th Avenue South East\, Dyersville\, IA\, 52040\, United States
CATEGORIES:Events
ATTACH;FMTTYPE=image/jpeg:https://osogoodwinery.com/wp-content/uploads/2024/05/tcreek.jpg
END:VEVENT
BEGIN:VEVENT
DTSTART;TZID=America/Chicago:20240901T130000
DTEND;TZID=America/Chicago:20240901T160000
DTSTAMP:20260423T123246
CREATED:20240901T013701Z
LAST-MODIFIED:20240901T013701Z
UID:20886-1725195600-1725206400@osogoodwinery.com
SUMMARY:Mixed Emotions
DESCRIPTION:
URL:https://osogoodwinery.com/event/mixed-emotions/
LOCATION:O So Good Winery\, 2093 20th Avenue South East\, Dyersville\, IA\, 52040\, United States
CATEGORIES:Events
END:VEVENT
BEGIN:VEVENT
DTSTART;TZID=America/Chicago:20240825T130000
DTEND;TZID=America/Chicago:20240825T160000
DTSTAMP:20260423T123246
CREATED:20240707T173737Z
LAST-MODIFIED:20240707T173737Z
UID:20866-1724590800-1724601600@osogoodwinery.com
SUMMARY:DR Band
DESCRIPTION:
URL:https://osogoodwinery.com/event/dr-band/
LOCATION:O So Good Winery\, 2093 20th Avenue South East\, Dyersville\, IA\, 52040\, United States
CATEGORIES:Events
END:VEVENT
BEGIN:VEVENT
DTSTART;TZID=America/Chicago:20240818T130000
DTEND;TZID=America/Chicago:20240818T160000
DTSTAMP:20260423T123246
CREATED:20240707T173224Z
LAST-MODIFIED:20240707T173224Z
UID:20864-1723986000-1723996800@osogoodwinery.com
SUMMARY:Jimmy Welty Band
DESCRIPTION:
URL:https://osogoodwinery.com/event/jimmy-welty-band-3/
LOCATION:O So Good Winery\, 2093 20th Avenue South East\, Dyersville\, IA\, 52040\, United States
CATEGORIES:Events
END:VEVENT
BEGIN:VEVENT
DTSTART;TZID=America/Chicago:20240811T130000
DTEND;TZID=America/Chicago:20240811T160000
DTSTAMP:20260423T123246
CREATED:20240326T045722Z
LAST-MODIFIED:20240707T172508Z
UID:20041-1723381200-1723392000@osogoodwinery.com
SUMMARY:Casey Klein
DESCRIPTION:
URL:https://osogoodwinery.com/event/casey-klein/
LOCATION:O So Good Winery\, 2093 20th Avenue South East\, Dyersville\, IA\, 52040\, United States
CATEGORIES:Events
ORGANIZER;CN="The O So Good Team":MAILTO:mpmanemann@gmail.com
END:VEVENT
BEGIN:VEVENT
DTSTART;TZID=America/Chicago:20240810T180000
DTEND;TZID=America/Chicago:20240810T210000
DTSTAMP:20260423T123246
CREATED:20240707T172337Z
LAST-MODIFIED:20240707T172337Z
UID:20862-1723312800-1723323600@osogoodwinery.com
SUMMARY:Triple Threat
DESCRIPTION:
URL:https://osogoodwinery.com/event/triple-threat-6/
LOCATION:O So Good Winery\, 2093 20th Avenue South East\, Dyersville\, IA\, 52040\, United States
CATEGORIES:Events
END:VEVENT
BEGIN:VEVENT
DTSTART;TZID=America/Chicago:20240809T190000
DTEND;TZID=America/Chicago:20240809T210000
DTSTAMP:20260423T123246
CREATED:20240524T024521Z
LAST-MODIFIED:20240707T170851Z
UID:20736-1723230000-1723237200@osogoodwinery.com
SUMMARY:Music Bingo with the Trivial Dudes
DESCRIPTION:
URL:https://osogoodwinery.com/event/music-bingo-june24/
LOCATION:O So Good Winery\, 2093 20th Avenue South East\, Dyersville\, IA\, 52040\, United States
CATEGORIES:Bingo
ATTACH;FMTTYPE=image/jpeg:https://osogoodwinery.com/wp-content/uploads/2024/05/288760391_110279105050342_3999972483424529003_n.jpg
END:VEVENT
BEGIN:VEVENT
DTSTART;TZID=America/Chicago:20240803T180000
DTEND;TZID=America/Chicago:20240803T210000
DTSTAMP:20260423T123246
CREATED:20240707T171333Z
LAST-MODIFIED:20240707T171648Z
UID:20856-1722708000-1722718800@osogoodwinery.com
SUMMARY:The Other 2
DESCRIPTION:
URL:https://osogoodwinery.com/event/the-other-2-2/
LOCATION:O So Good Winery\, 2093 20th Avenue South East\, Dyersville\, IA\, 52040\, United States
CATEGORIES:Events
END:VEVENT
BEGIN:VEVENT
DTSTART;TZID=America/Chicago:20240728T130000
DTEND;TZID=America/Chicago:20240728T160000
DTSTAMP:20260423T123246
CREATED:20240302T050016Z
LAST-MODIFIED:20240707T170414Z
UID:19647-1722171600-1722182400@osogoodwinery.com
SUMMARY:Darrell\, Jacque\, & Connie
DESCRIPTION:“Playing your favorite country songs of yesterday\, today\, and more!”
URL:https://osogoodwinery.com/event/darrell-jacque-connie/
LOCATION:O So Good Winery\, 2093 20th Avenue South East\, Dyersville\, IA\, 52040\, United States
CATEGORIES:Events
END:VEVENT
BEGIN:VEVENT
DTSTART;TZID=America/Chicago:20240721T130000
DTEND;TZID=America/Chicago:20240721T160000
DTSTAMP:20260423T123246
CREATED:20240529T030552Z
LAST-MODIFIED:20240529T030552Z
UID:20782-1721566800-1721577600@osogoodwinery.com
SUMMARY:Boys of Lloyd
DESCRIPTION:Brothers guitar duo that “plays a little bit of everything but the songs they sing will make you want to have a drink in your hand\, singing along.”
URL:https://osogoodwinery.com/event/boys-of-lloyd/
LOCATION:O So Good Winery\, 2093 20th Avenue South East\, Dyersville\, IA\, 52040\, United States
CATEGORIES:Events
ATTACH;FMTTYPE=image/jpeg:https://osogoodwinery.com/wp-content/uploads/2024/05/BOL.jpeg
END:VEVENT
END:VCALENDAR