BEGIN:VCALENDAR
VERSION:2.0
PRODID:-//O So Good Winery &amp; Distillery - ECPv6.15.10//NONSGML v1.0//EN
CALSCALE:GREGORIAN
METHOD:PUBLISH
X-ORIGINAL-URL:https://osogoodwinery.com
X-WR-CALDESC:Events for O So Good Winery &amp; Distillery
REFRESH-INTERVAL;VALUE=DURATION:PT1H
X-Robots-Tag:noindex
X-PUBLISHED-TTL:PT1H
BEGIN:VTIMEZONE
TZID:America/Chicago
BEGIN:DAYLIGHT
TZOFFSETFROM:-0600
TZOFFSETTO:-0500
TZNAME:CDT
DTSTART:20230312T080000
END:DAYLIGHT
BEGIN:STANDARD
TZOFFSETFROM:-0500
TZOFFSETTO:-0600
TZNAME:CST
DTSTART:20231105T070000
END:STANDARD
BEGIN:DAYLIGHT
TZOFFSETFROM:-0600
TZOFFSETTO:-0500
TZNAME:CDT
DTSTART:20240310T080000
END:DAYLIGHT
BEGIN:STANDARD
TZOFFSETFROM:-0500
TZOFFSETTO:-0600
TZNAME:CST
DTSTART:20241103T070000
END:STANDARD
BEGIN:DAYLIGHT
TZOFFSETFROM:-0600
TZOFFSETTO:-0500
TZNAME:CDT
DTSTART:20250309T080000
END:DAYLIGHT
BEGIN:STANDARD
TZOFFSETFROM:-0500
TZOFFSETTO:-0600
TZNAME:CST
DTSTART:20251102T070000
END:STANDARD
END:VTIMEZONE
BEGIN:VTIMEZONE
TZID:UTC
BEGIN:STANDARD
TZOFFSETFROM:+0000
TZOFFSETTO:+0000
TZNAME:UTC
DTSTART:20230101T000000
END:STANDARD
END:VTIMEZONE
BEGIN:VEVENT
DTSTART;TZID=America/Chicago:20240623T130000
DTEND;TZID=America/Chicago:20240623T160000
DTSTAMP:20260423T172752
CREATED:20240524T025213Z
LAST-MODIFIED:20240524T033840Z
UID:20745-1719147600-1719158400@osogoodwinery.com
SUMMARY:Nutsy and Lori
DESCRIPTION:
URL:https://osogoodwinery.com/event/nutsy-and-lori-2/
LOCATION:O So Good Winery\, 2093 20th Avenue South East\, Dyersville\, IA\, 52040\, United States
CATEGORIES:Events
ATTACH;FMTTYPE=image/jpeg:https://osogoodwinery.com/wp-content/uploads/2024/05/nutsylori.jpeg
END:VEVENT
BEGIN:VEVENT
DTSTART;TZID=America/Chicago:20240615T180000
DTEND;TZID=America/Chicago:20240615T210000
DTSTAMP:20260423T172752
CREATED:20240524T025033Z
LAST-MODIFIED:20240524T034247Z
UID:20741-1718474400-1718485200@osogoodwinery.com
SUMMARY:Triple Threat
DESCRIPTION:
URL:https://osogoodwinery.com/event/triple-threat-3/
LOCATION:O So Good Winery\, 2093 20th Avenue South East\, Dyersville\, IA\, 52040\, United States
CATEGORIES:Events
ATTACH;FMTTYPE=image/jpeg:https://osogoodwinery.com/wp-content/uploads/2024/05/triplethreat-1.jpeg
END:VEVENT
BEGIN:VEVENT
DTSTART;TZID=America/Chicago:20240609T080000
DTEND;TZID=America/Chicago:20240609T223000
DTSTAMP:20260423T172752
CREATED:20240524T023225Z
LAST-MODIFIED:20240524T033501Z
UID:20721-1717920000-1717972200@osogoodwinery.com
SUMMARY:Breakfast with Royalty
DESCRIPTION:RSVP Required. Register for the event on Facebook: https://fb.me/e/6T506g42f \nBE OUR GUEST as we host a magical breakfast with Disney’s Princesses.\nCome and enjoy a buffet-style breakfast while mingling with Disney Royalty dressed in their Sunday best!\n\nBreakfast Bar will include: \n\nPancakes/Waffles\nBiscuits and Gravy\nBacon\nSausage\nBreakfast Potatoes\nScrambled Eggs\nScrambled Eggs w/ Peppers and Onions\n\n\nTicket includes: \n\nTiara / Crown\nBreakfast / Drink\nPhoto Opportunity\n\n\nThe princesses will be there throughout the breakfast event and you are more than welcome to join us whenever you can. You can come and go as you please\, and we would be delighted to have you join us whenever you’re available.\n\nPerformance by Princess:\n\nJasmine 8:30\nSnow White 8:50\nRapunzel: 9:10\nMoana: 9:30\nAriel: 9:50\nBelle: 10:10\n\nAll of our princesses will perform a song from their own fairytale.\n\nPlease Note: Our Royalty will be in their “Sunday Best\,” made by our very own Fairy Godmother\, and not in their “fairytale costume.” By humanizing our royalty\, we hope to make the magical feeling a reality for all our guests.
URL:https://osogoodwinery.com/event/breakfast-with-royalty/
LOCATION:O So Good Winery\, 2093 20th Avenue South East\, Dyersville\, IA\, 52040\, United States
CATEGORIES:Special Event
ATTACH;FMTTYPE=image/jpeg:https://osogoodwinery.com/wp-content/uploads/2024/05/ashton-mullins-j1HU-Oll7KI-unsplash.jpg
END:VEVENT
BEGIN:VEVENT
DTSTART;TZID=America/Chicago:20240608T180000
DTEND;TZID=America/Chicago:20240608T210000
DTSTAMP:20260423T172752
CREATED:20240524T022552Z
LAST-MODIFIED:20240524T022600Z
UID:20718-1717869600-1717880400@osogoodwinery.com
SUMMARY:PlugNickel
DESCRIPTION:PlugNickel is a 5 piece Classic Rock and Roll cover band from the town of Independence\, Iowa.
URL:https://osogoodwinery.com/event/plug-nickel/
LOCATION:O So Good Winery\, 2093 20th Avenue South East\, Dyersville\, IA\, 52040\, United States
CATEGORIES:Events
END:VEVENT
BEGIN:VEVENT
DTSTART;TZID=America/Chicago:20240525T180000
DTEND;TZID=America/Chicago:20240525T210000
DTSTAMP:20260423T172752
CREATED:20240524T031131Z
LAST-MODIFIED:20240524T031710Z
UID:20754-1716660000-1716670800@osogoodwinery.com
SUMMARY:Shekinah King
DESCRIPTION:Songwriter\, Keyboardist\, lead vocals for Madison-based Based Blues band Alpha Romeo\, and Lead vocals for the Waunakee Project Brave Band. \nShekinah works closely with the nonprofit “Project Brave” to fight the negative stigma associated with mental illness. Shekinah King released “I Got It From My Mom” in May of 2022\, on all major streaming platforms\, and a music video to go with it. “I Got It From My Mom” won the 2022 Madison Area Music Awards Pop Song of the Year. \nShekinah would rather be singing than almost anything else. Growing up in church cultivated a deep love for music and a passion for what she does. You can find her singing and pursuing what she loves throughout Wisconsin\, Iowa\, Illinois\, and Florida. She pulls inspiration from a wide variety of musical influences. People often compare her voice to Pink\, Kelly Clarkson\, or Adele. Shekinah performs over 1\,500 songs from many decades and genres as well as her originals. She is currently recording her debut EP which will be released in 2024. \nShe recently opened for the Grammy-winning artist Steven Curtis Chapman.
URL:https://osogoodwinery.com/event/shekinah-king/
LOCATION:O So Good Winery\, 2093 20th Avenue South East\, Dyersville\, IA\, 52040\, United States
CATEGORIES:Events
ATTACH;FMTTYPE=image/jpeg:https://osogoodwinery.com/wp-content/uploads/2024/05/sking.jpeg
END:VEVENT
BEGIN:VEVENT
DTSTART;TZID=America/Chicago:20240504T070000
DTEND;TZID=America/Chicago:20240504T120000
DTSTAMP:20260423T172752
CREATED:20240326T051146Z
LAST-MODIFIED:20240326T051146Z
UID:20055-1714806000-1714824000@osogoodwinery.com
SUMMARY:Dubuque Summer Farmer's Market Opens
DESCRIPTION:Visit our tent at the Dubuque Farmer’s Market on the corner of Iowa and 12th streets. \n“Dubuque Farmers Market is located in the upper main district around City Hall since 1858. Expanding over three city blocks on Iowa Street\, extending down 11th\, 12th\, and 13th streets! “
URL:https://osogoodwinery.com/event/dubuque-summer-farmers-market-opens/
LOCATION:Dubuque Summer Farmer’s Market\, Iowa Street\, Dubuque\, IA\, 52001\, United States
CATEGORIES:Dubuque Market
END:VEVENT
BEGIN:VEVENT
DTSTART;TZID=America/Chicago:20240427T180000
DTEND;TZID=America/Chicago:20240427T210000
DTSTAMP:20260423T172752
CREATED:20240326T050120Z
LAST-MODIFIED:20240326T050814Z
UID:20050-1714240800-1714251600@osogoodwinery.com
SUMMARY:Nutsy and Lori
DESCRIPTION:
URL:https://osogoodwinery.com/event/nutsy-and-lori/
LOCATION:O So Good Winery\, 2093 20th Avenue South East\, Dyersville\, IA\, 52040\, United States
CATEGORIES:Events
ORGANIZER;CN="The O So Good Team":MAILTO:mpmanemann@gmail.com
END:VEVENT
BEGIN:VEVENT
DTSTART;TZID=America/Chicago:20240426T190000
DTEND;TZID=America/Chicago:20240426T210000
DTSTAMP:20260423T172752
CREATED:20240326T050038Z
LAST-MODIFIED:20240326T050038Z
UID:20048-1714158000-1714165200@osogoodwinery.com
SUMMARY:Trivia with the Trivial Dudes
DESCRIPTION:
URL:https://osogoodwinery.com/event/trivia-with-the-trivial-dudes/
LOCATION:O So Good Winery\, 2093 20th Avenue South East\, Dyersville\, IA\, 52040\, United States
CATEGORIES:Trivia
END:VEVENT
BEGIN:VEVENT
DTSTART;TZID=America/Chicago:20240426T173000
DTEND;TZID=America/Chicago:20240426T203000
DTSTAMP:20260423T172752
CREATED:20240326T045907Z
LAST-MODIFIED:20240326T045945Z
UID:20043-1714152600-1714163400@osogoodwinery.com
SUMMARY:Captured on Canvas
DESCRIPTION:RSVP today!
URL:https://osogoodwinery.com/event/captured-on-canvas-rsvp/
LOCATION:O So Good Winery\, 2093 20th Avenue South East\, Dyersville\, IA\, 52040\, United States
CATEGORIES:Painting Party
END:VEVENT
BEGIN:VEVENT
DTSTART;TZID=America/Chicago:20240420T180000
DTEND;TZID=America/Chicago:20240420T210000
DTSTAMP:20260423T172752
CREATED:20240326T045402Z
LAST-MODIFIED:20240326T045549Z
UID:20036-1713636000-1713646800@osogoodwinery.com
SUMMARY:Triple Threat
DESCRIPTION:
URL:https://osogoodwinery.com/event/triple-threat-2/
LOCATION:IA
CATEGORIES:Events
ORGANIZER;CN="The O So Good Team":MAILTO:mpmanemann@gmail.com
END:VEVENT
BEGIN:VEVENT
DTSTART;TZID=America/Chicago:20240419T183000
DTEND;TZID=America/Chicago:20240419T213000
DTSTAMP:20260423T172752
CREATED:20240326T045635Z
LAST-MODIFIED:20240326T045635Z
UID:20039-1713551400-1713562200@osogoodwinery.com
SUMMARY:BarGo
DESCRIPTION:
URL:https://osogoodwinery.com/event/bargo-2/
LOCATION:O So Good Winery\, 2093 20th Avenue South East\, Dyersville\, IA\, 52040\, United States
CATEGORIES:Bargo
END:VEVENT
BEGIN:VEVENT
DTSTART;TZID=America/Chicago:20240412T190000
DTEND;TZID=America/Chicago:20240412T210000
DTSTAMP:20260423T172752
CREATED:20240326T045223Z
LAST-MODIFIED:20240326T045223Z
UID:20032-1712948400-1712955600@osogoodwinery.com
SUMMARY:Music Bingo with the Trivial Dudes
DESCRIPTION:
URL:https://osogoodwinery.com/event/music-bingo-with-the-trivial-dudes/
LOCATION:O So Good Winery\, 2093 20th Avenue South East\, Dyersville\, IA\, 52040\, United States
CATEGORIES:Bingo
END:VEVENT
BEGIN:VEVENT
DTSTART;TZID=America/Chicago:20240406T180000
DTEND;TZID=America/Chicago:20240406T210000
DTSTAMP:20260423T172752
CREATED:20240326T044923Z
LAST-MODIFIED:20240326T044923Z
UID:20030-1712426400-1712437200@osogoodwinery.com
SUMMARY:Triple Threat
DESCRIPTION:
URL:https://osogoodwinery.com/event/triple-threat/
LOCATION:O So Good Winery\, 2093 20th Avenue South East\, Dyersville\, IA\, 52040\, United States
CATEGORIES:Events
ORGANIZER;CN="The O So Good Team":MAILTO:mpmanemann@gmail.com
END:VEVENT
BEGIN:VEVENT
DTSTART;TZID=America/Chicago:20240324T130000
DTEND;TZID=America/Chicago:20240324T160000
DTSTAMP:20260423T172752
CREATED:20240302T050846Z
LAST-MODIFIED:20240302T050846Z
UID:19656-1711285200-1711296000@osogoodwinery.com
SUMMARY:Stef-N-Daniels Band
DESCRIPTION:Come on out for a fun afternoon with great food\, cold drinks\, and good music!
URL:https://osogoodwinery.com/event/stef-n-daniels-band/
LOCATION:O So Good Winery\, 2093 20th Avenue South East\, Dyersville\, IA\, 52040\, United States
CATEGORIES:Events
END:VEVENT
BEGIN:VEVENT
DTSTART;TZID=America/Chicago:20240322T190000
DTEND;TZID=America/Chicago:20240322T210000
DTSTAMP:20260423T172752
CREATED:20240302T050426Z
LAST-MODIFIED:20240302T050526Z
UID:19652-1711134000-1711141200@osogoodwinery.com
SUMMARY:Trivia
DESCRIPTION:Hosted by the Trivial Dudes.
URL:https://osogoodwinery.com/event/trivia/
LOCATION:O So Good Winery\, 2093 20th Avenue South East\, Dyersville\, IA\, 52040\, United States
CATEGORIES:Trivia
END:VEVENT
BEGIN:VEVENT
DTSTART;TZID=America/Chicago:20240316T180000
DTEND;TZID=America/Chicago:20240316T210000
DTSTAMP:20260423T172752
CREATED:20240302T050155Z
LAST-MODIFIED:20240302T050155Z
UID:19649-1710612000-1710622800@osogoodwinery.com
SUMMARY:Triple Threat - St. Patty's Party
DESCRIPTION:
URL:https://osogoodwinery.com/event/triple-threat-st-pattys-party/
LOCATION:O So Good Winery\, 2093 20th Avenue South East\, Dyersville\, IA\, 52040\, United States
CATEGORIES:Events,Special Event
END:VEVENT
BEGIN:VEVENT
DTSTART;TZID=America/Chicago:20240315T183000
DTEND;TZID=America/Chicago:20240315T210000
DTSTAMP:20260423T172752
CREATED:20240302T045811Z
LAST-MODIFIED:20240302T050032Z
UID:19645-1710527400-1710536400@osogoodwinery.com
SUMMARY:Bargo
DESCRIPTION:Welcome to Bargo: Where Bar Meets Bingo for an Unforgettable Night Out
URL:https://osogoodwinery.com/event/bargo/
LOCATION:O So Good Winery\, 2093 20th Avenue South East\, Dyersville\, IA\, 52040\, United States
CATEGORIES:Bargo
END:VEVENT
BEGIN:VEVENT
DTSTART;TZID=America/Chicago:20240310T130000
DTEND;TZID=America/Chicago:20240310T160000
DTSTAMP:20260423T172752
CREATED:20240302T045520Z
LAST-MODIFIED:20240302T045520Z
UID:19641-1710075600-1710086400@osogoodwinery.com
SUMMARY:Jimmy Welty Band
DESCRIPTION:“Kickin’ it old school with rip-roarin’ rhythms and mesmerizin’ melodies.“
URL:https://osogoodwinery.com/event/jimmy-welty-band/
LOCATION:O So Good Winery\, 2093 20th Avenue South East\, Dyersville\, IA\, 52040\, United States
CATEGORIES:Events
END:VEVENT
BEGIN:VEVENT
DTSTART;TZID=UTC:20240309T180000
DTEND;TZID=UTC:20240309T210000
DTSTAMP:20260423T172752
CREATED:20210827T191033Z
LAST-MODIFIED:20240302T045551Z
UID:18394-1710007200-1710018000@osogoodwinery.com
SUMMARY:Knapp Creek
DESCRIPTION:Live band singing Rock and Americana covers from the 60s\, 70s and 80s.
URL:https://osogoodwinery.com/event/harvest-pickup-party/
LOCATION:O So Good Winery\, 2093 20th Avenue South East\, Dyersville\, IA\, 52040\, United States
CATEGORIES:Events
ATTACH;FMTTYPE=image/jpeg:https://osogoodwinery.com/wp-content/uploads/2020/04/image-copyright9.jpg
END:VEVENT
BEGIN:VEVENT
DTSTART;TZID=UTC:20240309T090000
DTEND;TZID=UTC:20240309T120000
DTSTAMP:20260423T172752
CREATED:20210817T154916Z
LAST-MODIFIED:20240302T045612Z
UID:17797-1709974800-1709985600@osogoodwinery.com
SUMMARY:Dubuque Winter Farmer's Market
DESCRIPTION:
URL:https://osogoodwinery.com/event/wine-country-tour/
LOCATION:Dubuque Winter Farmer’s Market\, 555 John F Kennedy Rd\, Dubuque\, IA\, 52002\, United States
CATEGORIES:Dubuque Market
ATTACH;FMTTYPE=image/jpeg:https://osogoodwinery.com/wp-content/uploads/2021/08/image-copyright-1.jpg
END:VEVENT
BEGIN:VEVENT
DTSTART;TZID=UTC:20240308T190000
DTEND;TZID=UTC:20240308T210000
DTSTAMP:20260423T172752
CREATED:20210827T174846Z
LAST-MODIFIED:20240302T050543Z
UID:18354-1709924400-1709931600@osogoodwinery.com
SUMMARY:Music Bingo
DESCRIPTION:Join us for Friday night music bingo!
URL:https://osogoodwinery.com/event/festive-winery-dinner/
LOCATION:O So Good Winery\, 2093 20th Avenue South East\, Dyersville\, IA\, 52040\, United States
CATEGORIES:Bingo
ATTACH;FMTTYPE=image/jpeg:https://osogoodwinery.com/wp-content/uploads/2021/08/image-copyright11.jpg
END:VEVENT
END:VCALENDAR